BEGIN:VCALENDAR
CALSCALE:GREGORIAN
X-WR-TIMEZONE;VALUE=TEXT:GMT
PRODID:PEAK Corporation - piCal -
X-WR-CALNAME;VALUE=TEXT:アンポをつぶせちょうちんデモ
VERSION:2.0
METHOD:PUBLISH
BEGIN:VTIMEZONE
TZID:Etc/GMT-9
BEGIN:STANDARD
DTSTART:19390101T000000
TZOFFSETFROM:+0900
TZOFFSETTO:+0900
TZNAME:Etc/GMT-9
END:STANDARD
END:VTIMEZONE
BEGIN:VEVENT
DTSTART;TZID=Etc/GMT-9:20100615T190000
DTEND;TZID=Etc/GMT-9:20100615T210000
LOCATION:集合場所・吉祥寺駅北口、武蔵野公会堂前
TRANSP:OPAQUE
SEQUENCE:0
UID:pical040-848b224daa29128c758eb92e6b5292a6
DTSTAMP:20100430T181849Z
CATEGORIES:
DESCRIPTION:19:10には、出発します。\n集合場所・吉祥寺駅北口、武蔵野公会堂前\n少人数でのデモですが、心が温かくなるそして元気になれるデモですよ！！
SUMMARY:アンポをつぶせちょうちんデモ
RRULE:FREQ=MONTHLY;INTERVAL=1;BYMONTHDAY=15;WKST=MO
PRIORITY:0
CLASS:PUBLIC
END:VEVENT
END:VCALENDAR
