BEGIN:VCALENDAR
CALSCALE:GREGORIAN
X-WR-TIMEZONE;VALUE=TEXT:GMT
PRODID:PEAK Corporation - piCal -
X-WR-CALNAME;VALUE=TEXT:東京都写真美術館にて特集上映！
VERSION:2.0
METHOD:PUBLISH
BEGIN:VTIMEZONE
TZID:GMT
BEGIN:STANDARD
DTSTART:19390101T000000
TZOFFSETFROM:+0000
TZOFFSETTO:+0000
TZNAME:GMT
END:STANDARD
END:VTIMEZONE
BEGIN:VEVENT
DTSTART:20110716T011000Z
DTEND:20110812T095000Z
LOCATION:東京都写真美術館
TRANSP:OPAQUE
SEQUENCE:0
UID:pical040-f57541a6fdad4e08ea3b946fa9044595
DTSTAMP:20110711T063316Z
CATEGORIES:
DESCRIPTION:東京都写真美術館にてアップリンク・アースライフ・シリーズ特集上映\<a href="nhttp://syabi.com/contents/exhibition/movie-1465.html" rel="external">nhttp://syabi.com/contents/exhibition/movie-1465.html</a>\n東京都写真美術館\n上映期間 ：2011年7月16日(土)〜8月12日(金)\n休映日 ： 毎週月曜日（祝日の場合は翌日）\<a href="nhttp://syabi.com/contents/navigation/index.html" rel="external">nhttp://syabi.com/contents/navigation/index.html</a>\n会場地図\n\n上映時間：\n10：10〜「レイチェル・カーソンの感性の森」 \<a href="nhttp://www.uplink.co.jp/kansei/" rel="external">nhttp://www.uplink.co.jp/kansei/</a>\n　\n11：25〜「未来の食卓」 \<a href="nhttp://www.uplink.co.jp/shokutaku/" rel="external">nhttp://www.uplink.co.jp/shokutaku/</a>\n\n13：35〜「セヴァンの地球のなおし方」 \n16：30〜「セヴァンの地球のなおし方」 \<a href="nhttp://www.uplink.co.jp/severn/" rel="external">nhttp://www.uplink.co.jp/severn/</a>\n\n18：50〜「１００，０００年後の安全」\<a href="nhttp://www.uplink.co.jp/100000/" rel="external">nhttp://www.uplink.co.jp/100000/</a>
SUMMARY:東京都写真美術館にて特集上映！
PRIORITY:0
CLASS:PUBLIC
END:VEVENT
END:VCALENDAR
