BEGIN:VCALENDAR
CALSCALE:GREGORIAN
X-WR-TIMEZONE;VALUE=TEXT:GMT
PRODID:PEAK Corporation - piCal -
X-WR-CALNAME;VALUE=TEXT:「ぼくたちは見た　―ガザ・サムニ家の子どもたち―」
VERSION:2.0
METHOD:PUBLISH
BEGIN:VTIMEZONE
TZID:GMT
BEGIN:STANDARD
DTSTART:19390101T000000
TZOFFSETFROM:+0000
TZOFFSETTO:+0000
TZNAME:GMT
END:STANDARD
END:VTIMEZONE
BEGIN:VEVENT
DTSTART:20110806T014500Z
DTEND:20110816T030000Z
LOCATION:ユーロスペース２　渋谷区円山町1‐5（渋谷・文化村前交差点左折）
TRANSP:OPAQUE
SEQUENCE:1
UID:pical040-a663cbf558fccf2a7830a80e8423f6fb
DTSTAMP:20110714T024321Z
CATEGORIES:
DESCRIPTION:「ぼくたちは見た　―ガザ・サムニ家の子どもたち―」\n\n8月6日から渋谷のユーロスペース２のモーニングショー（10時45分から）で上映されることになりました。\n<span style="font-size: small;"><span style="color: #990000;">期間：2011/08/06-終了日未定</span></span>\n住所：渋谷区円山町1‐5（渋谷・文化村前交差点左折）\n電話番号 03-3461-0211\n\n<span style="font-size: small;"><span style="color: #990000;">カレンダーには、１０日間分掲載いたします。</span></span>\n<span style="font-size: small;"><span style="color: #990000;">電話で上映がされているか確認をしてお出かけください。</span></span>\n<span style="font-size: small;"><span style="color: #990000;">また、最終日が決まりましたらあらためて掲載いたします。</span></span>\n\n「ぼくたちは見た　―ガザ・サムニ家の子どもたち―」\<a href="nhttp://www.eurospace.co.jp/detail.html?no=332" rel="external">nhttp://www.eurospace.co.jp/detail.html?no=332</a>\n古居みずえ監督作品\n2011年／日本／カラー／86分／DVCAM／ステレオ\n配給＝アジアプレス・インターナショナル\n\n公式サイト\<a href="nhttp://whatwesaw.jp/" rel="external">nhttp://whatwesaw.jp/</a>
SUMMARY:「ぼくたちは見た　―ガザ・サムニ家の子どもたち―」
PRIORITY:0
CLASS:PUBLIC
END:VEVENT
END:VCALENDAR
