BEGIN:VCALENDAR
CALSCALE:GREGORIAN
X-WR-TIMEZONE;VALUE=TEXT:GMT
PRODID:PEAK Corporation - piCal -
X-WR-CALNAME;VALUE=TEXT:【NO!ゲンパツ展（東京）】
VERSION:2.0
METHOD:PUBLISH
BEGIN:VTIMEZONE
TZID:GMT
BEGIN:STANDARD
DTSTART:19390101T000000
TZOFFSETFROM:+0000
TZOFFSETTO:+0000
TZNAME:GMT
END:STANDARD
END:VTIMEZONE
BEGIN:VEVENT
DTSTART:20110803T020000Z
DTEND:20110809T080000Z
LOCATION:ブックギャラリーポポタム（東京都豊島区西池袋2-15-17）
TRANSP:OPAQUE
SEQUENCE:0
UID:pical040-019cf6485cd24b47953f08399c27a15b
DTSTAMP:20110724T034820Z
CATEGORIES:
DESCRIPTION:【NO!ゲンパツ展（東京）】\n　<a href="http://fwd4.me/07Gf" rel="external">http://fwd4.me/07Gf</a>\n<span style="font-size: medium;"><span style="color: #990000;">8/3（水）〜8/9（火）11:00〜20:00　会期中無休</span></span>\n<span style="font-size: medium;"><span style="color: #990000;">8/7（日）と最終日は17:00まで　※入場無料</span></span>\n\nブックギャラリーポポタム\n171-0021　東京都豊島区西池袋2-15-17\n０３−５９５２−０１１４\n\n「もうこんな危ないゲンパツっていらないんちゃう？もっと命を大事にする世の中にしていこうよ」\n絵本作家の市居みかさんの呼びかけで滋賀を皮切りに始まった総勢64名のグループ展。\nポポタムにて開催する東京巡回展では、\n原爆の図を描いた丸木俊、広島で被爆し晩年に絵筆をとった木スマの作品も展示します。\n\n☆会期中イベント\n8/7（日）18:00〜20:00　茶話会（1000円／お茶とお菓子付）\n出品作家の丸木ひさ子さんをゲストに\n戦争や原発にNO!を示し続けてきた丸木家のお話をうかがいます。\nまた参加者もいっしょに、東電原発事故後の思いや\n生活の知恵などを交換しましょう。
SUMMARY:【NO!ゲンパツ展（東京）】
PRIORITY:0
CLASS:PUBLIC
END:VEVENT
END:VCALENDAR
