BEGIN:VCALENDAR
CALSCALE:GREGORIAN
X-WR-TIMEZONE;VALUE=TEXT:GMT
PRODID:PEAK Corporation - piCal -
X-WR-CALNAME;VALUE=TEXT:8月27日脱原発デモ@渋谷・原宿
VERSION:2.0
METHOD:PUBLISH
BEGIN:VTIMEZONE
TZID:GMT
BEGIN:STANDARD
DTSTART:19390101T000000
TZOFFSETFROM:+0000
TZOFFSETTO:+0000
TZNAME:GMT
END:STANDARD
END:VTIMEZONE
BEGIN:VEVENT
DTSTART:20110827T033000Z
DTEND:20110827T080000Z
LOCATION:みやしたこうえん北側から出ます！！（住所:渋谷区神宮前6-20-10）
TRANSP:OPAQUE
SEQUENCE:1
UID:pical040-89b91fd1b01e03619554bcccfedd7d8e
DTSTAMP:20110810T121225Z
CATEGORIES:
DESCRIPTION:8月27日脱原発デモ@渋谷・原宿\n※日時・デモコース等の詳細は下記サイトで確認ください。\<a href="nhttp://twitnonukes.blogspot.com/2011/07/827.html" rel="external">nhttp://twitnonukes.blogspot.com/2011/07/827.html</a>\n【主催】\n8・27脱原発デモ@渋谷・原宿を実行するTwitter有志一同\n公式Twitterアカウント：@twitnonukes\n\n【日時】\n2011年8月27日(土)\n12時30分集合、13時出発予定\n\n【集合場所】\nみやしたこうえん北側\n住所:渋谷区神宮前6-20-10 
SUMMARY:8月27日脱原発デモ@渋谷・原宿
PRIORITY:0
CLASS:PUBLIC
END:VEVENT
END:VCALENDAR
