BEGIN:VCALENDAR
CALSCALE:GREGORIAN
X-WR-TIMEZONE;VALUE=TEXT:GMT
PRODID:PEAK Corporation - piCal -
X-WR-CALNAME;VALUE=TEXT:『はだしのゲンが見たヒロシマ』
VERSION:2.0
METHOD:PUBLISH
BEGIN:VTIMEZONE
TZID:GMT
BEGIN:STANDARD
DTSTART:19390101T000000
TZOFFSETFROM:+0000
TZOFFSETTO:+0000
TZNAME:GMT
END:STANDARD
END:VTIMEZONE
BEGIN:VEVENT
DTSTART:20110806T013000Z
DTEND:20110826T022000Z
LOCATION:オーディトリウム渋谷（TEL：03-6809-0538）
TRANSP:OPAQUE
SEQUENCE:0
UID:pical040-2c1a353a907dae254f53ef89c6af44b9
DTSTAMP:20110802T112126Z
CATEGORIES:
DESCRIPTION:『はだしのゲンが見たヒロシマ』\n公式サイト： <a href="http://cine.co.jp/gen" rel="external">http://cine.co.jp/gen</a>\n\n上映情報\n　オーディトリウム渋谷（TEL：03-6809-0538）\n　 <a href="http://a-shibuya.jp" rel="external">http://a-shibuya.jp</a>\n　上映期間：8/6（土）〜8/26（金）\n　時間：連日10:30〜\n◇上映期間中トークイベント\n\n☆8/6（土）撮影の大津幸四郎さんと石田優子監督によるQ&amp;A\n☆8/7（日）広島の中沢啓治さんとインターネット中継によるトーク\n☆8/13（土）関口祐加監督と石田優子監督によるトーク\n　「ガチンコトーク！ふたりの女性ドキュメンタリスト」\n☆8/14（日）石田優子監督によるトーク\n　（沼田鈴子さんによる被爆体験の証言記録映像も一部上映予定）\n☆8/21（日）諏訪敦彦監督と石田優子監督によるトーク\n　「ヒロシマの今を見つめて」\n■料金：当日1,500円（税込）\n※リピーター割引：「はだしのゲンが見たヒロシマ」「原発切抜帖」の\n　半券をご呈示いただくとそれぞれの作品の当日料金から\n　200円割引いたします。\n※シニア、学生割引はございません。\n\n◇シグロオンラインショップにて、お得な特別鑑賞券を販売中！！\n→ <a href="http://cine.co.jp/php/detail.php?siglo_info_seq=126" rel="external">http://cine.co.jp/php/detail.php?siglo_info_seq=126</a>\n　※当日1,500円のところ1,200円にてご覧頂けます。\n　※オーディトリウム渋谷のみ、8/26（金）まで有効\n■全国上映情報\n＜上映中〜8/5（金）＞\n○広島・八丁座（TEL：082-546-1158）\n　 <a href="http://www.saloncinema-cinetwin.jp/theater" rel="external">http://www.saloncinema-cinetwin.jp/theater</a>\n＜9/17（土）〜＞\n○大阪・第七藝術劇場（TEL：06-6302-2073）\n　 <a href="http://www.nanagei.com/" rel="external">http://www.nanagei.com/</a>\n○愛知・名古屋シネマテーク（TEL：052-733-3959）\n　 <a href="http://cineaste.jp" rel="external">http://cineaste.jp</a>\n＜順次公開＞\n○福岡・KBCシネマ（TEL：092-751-4268）\n　 <a href="http://www.h6.dion.ne.jp/~kbccine/" rel="external">http://www.h6.dion.ne.jp/~kbccine/</a>\n
SUMMARY:『はだしのゲンが見たヒロシマ』
PRIORITY:0
CLASS:PUBLIC
END:VEVENT
END:VCALENDAR
