BEGIN:VCALENDAR
CALSCALE:GREGORIAN
X-WR-TIMEZONE;VALUE=TEXT:GMT
PRODID:PEAK Corporation - piCal -
X-WR-CALNAME;VALUE=TEXT:第982回　韓国水曜デモに連帯して　世界同時行動 in 東京
VERSION:2.0
METHOD:PUBLISH
BEGIN:VTIMEZONE
TZID:GMT
BEGIN:STANDARD
DTSTART:19390101T000000
TZOFFSETFROM:+0000
TZOFFSETTO:+0000
TZNAME:GMT
END:STANDARD
END:VTIMEZONE
BEGIN:VEVENT
DTSTART:20110810T030000Z
DTEND:20110810T040000Z
LOCATION:参議院議員会館前　路上
TRANSP:OPAQUE
SEQUENCE:0
UID:pical040-f99b3527366da95def23ca75c217130f
DTSTAMP:20110808T152101Z
CATEGORIES:
DESCRIPTION:第982回　韓国水曜デモに連帯して　世界同時行動 in 東京\n\nさあ、みんなで　国会前へ！\n\n日時：2011年8月10日（水）　12時-13時\n場所：参議院議員会館前　路上\n\n今年8月は、1991年韓国で金学順（キム・ハクスン）さんが「慰安婦」被害者で\nあると明らかにしてから20年目になります。その間、被害者たちはずっと日本政\n府に対し公式の謝罪と法的賠償、悲劇が繰り返されないように真実を歴史にとど\nめることなどを求め続けて来ました。しかし、この願いが聞き届けられないまま、\n今年も暑い夏を迎えました。被害者が生きておられるうちに問題が解決するよう、\n国会前に立っていっしょに声をあげましょう。
SUMMARY:第982回　韓国水曜デモに連帯して　世界同時行動 in 東京
PRIORITY:0
CLASS:PUBLIC
END:VEVENT
END:VCALENDAR
