BEGIN:VCALENDAR
CALSCALE:GREGORIAN
X-WR-TIMEZONE;VALUE=TEXT:GMT
PRODID:PEAK Corporation - piCal -
X-WR-CALNAME;VALUE=TEXT:泊を止めろ！北海道電力東京支社前・緊急アクション
VERSION:2.0
METHOD:PUBLISH
BEGIN:VTIMEZONE
TZID:GMT
BEGIN:STANDARD
DTSTART:19390101T000000
TZOFFSETFROM:+0000
TZOFFSETTO:+0000
TZNAME:GMT
END:STANDARD
END:VTIMEZONE
BEGIN:VEVENT
DTSTART:20110817T030000Z
DTEND:20110817T040000Z
LOCATION:北海道電力東京支社 　（千代田区丸の内1-6-5、TEL：03-3217-0861） 丸の内オアゾ内・丸の内北口ビル3階
TRANSP:OPAQUE
SEQUENCE:0
UID:pical040-5697d0648a9baead844d808583f8a992
DTSTAMP:20110816T133927Z
CATEGORIES:
DESCRIPTION:◆泊を止めろ！北海道電力東京支社前・緊急アクション\n　日時：2011年8月1７日（水） 午後１２時から1時まで\n\n［午前１１時45分に丸の内オアゾ内・丸善（書店）１階入口前に集合］\n（ＪＲ東京駅 丸の内北口より徒歩3分、丸の内線東京駅からも可）\n※当日連絡先［携帯］ 090-6185-4407（杉原）\n　場所：北海道電力東京支社\n　 （千代田区丸の内1-6-5、TEL：03-3217-0861）\n丸の内オアゾ内・丸の内北口ビル3階\n　 ＪＲ（丸の内線）東京駅 丸の内北口3分、東西線大手町駅B2b出口3分\n\n緊急会議・共同デスクサイトにも掲載しました。\<a href="nhttp://2011shinsai.info/node/615" rel="external">nhttp://2011shinsai.info/node/615</a>\n\n【呼びかけ】\n「9・11再稼働反対・脱原発！ 全国アクション」実行委員会\n［連絡先］ ピープルズ・プラン研究所\n（TEL）03-6424-5748 （FAX）03-6424-5749　　　\n
SUMMARY:泊を止めろ！北海道電力東京支社前・緊急アクション
PRIORITY:0
CLASS:PUBLIC
END:VEVENT
END:VCALENDAR
