BEGIN:VCALENDAR
CALSCALE:GREGORIAN
X-WR-TIMEZONE;VALUE=TEXT:GMT
PRODID:PEAK Corporation - piCal -
X-WR-CALNAME;VALUE=TEXT:８．２７反原発デモ情報（東京）
VERSION:2.0
METHOD:PUBLISH
BEGIN:VTIMEZONE
TZID:GMT
BEGIN:STANDARD
DTSTART:19390101T000000
TZOFFSETFROM:+0000
TZOFFSETTO:+0000
TZNAME:GMT
END:STANDARD
END:VTIMEZONE
BEGIN:VEVENT
DTSTART:20110827T033000Z
DTEND:20110827T093000Z
LOCATION:昼間・・・渋谷。　夜・・・新宿。
TRANSP:OPAQUE
SEQUENCE:0
UID:pical040-5c470f86085fda4412cf42b2600731a5
DTSTAMP:20110821T134054Z
CATEGORIES:
DESCRIPTION:８．２７反原発デモ情報（東京）\n\n<span style="font-size: large;"><span style="color: #000099;">昼</span></span>\n[東京]8・27脱原発デモ@渋谷・原宿\<a href="nhttp://twitnonukes.blogspot.com/2011/07/827.html" rel="external">nhttp://twitnonukes.blogspot.com/2011/07/827.html</a>\n\n日時 2011/08/27 (土) 12時30分集合、13時出発予定\n場所 みやしたこうえん北側 住所:渋谷区神宮前6-20-10\n主催：TwitNoNukes 脱原発デモを実行するTwitter有志　\n公式Twitterアカウント：@twitnonukes\<a href="nhttp://twitter.com/#!/twitnonukes" rel="external">nhttp://twitter.com/#!/twitnonukes</a>\n\n呼びかけ文\n\n8月27日、渋谷・原宿で、すべての原子力発電のできる限り早期の停止と「原発のな\nい社会」の実現を求めるデモを行います。\nこのデモは、ツイッターでの個人の呼びかけから始まった脱原発デモの第4弾です。\n福島第一原子力発電所の事故以降、さまざまな一般の個人や有名人、企業や自治体、\nさらには菅直人首相までもが、原発のない暮らしの実現に向けて声を上げています。\nしかし、泊原発の営業運転再開問題や、たびたび脱原発について言及してきた菅総理\nの退陣問題など、原発利権を握る経産省・政治家・財界・メディアといった原発推進\n勢力からの圧力は未だに根強く、日本の原発をめぐる現状は予断を許しません。\nすでに多くの市民の思いとなっている反原発／脱原発の声は、果たして今、その勢力\nにしっかりと抗うことができているでしょうか？　どれだけ多くの人々が日本は脱原\n発していくべきと考えていても、声を上げるべきときに上げないのであれば、その思\nいがこの国の未来を良い方向に変えることはできないでしょう。\n子どもたちに残すべき未来を、利権を握る一部の人間たちの都合の良いようにされた\nまま、不安や恐怖に曝され続けることに少しでも疑問を感じる方は、ぜひこのデモに\n参加して下さい。どうか、よろしくお願いします。\n\n＋＋＋＋＋＋＋\n<span style="font-size: large;"><span style="color: #000099;">夜</span></span>\n原発も再処理もいらない　くり返すな！ 原発震災　つくろう！ 脱原発社会　新宿デ\nモ　８/２７(土)\n\n日時：2011/08/27（土）18:00集合、18:30出発\n場所：新宿中央公園「水の広場」\nデモコース：　「水の広場」→歌舞伎町方面（予定）\n　参加費無料・雨天決行\n\n５月27日、金曜日の夜は今にも雨が降りそうな空模様にもかかわらず、約1500 人が\n参加しました。６月24日は日比谷野音で約500人が結集、集会を行い、デモ?国会に請\n願。７月23日は新宿中央公園を出発地点として、約600人が人々でにぎわう新宿の繁\n華街を歩きました。８月もまた、新宿でデモを行います。どなたでも参加できます。\n\n共催:　原発とめよう!東京ネットワーク／再処理とめたい!首都圏市民のつどい\n\n■原発とめよう!東京ネットワーク:　プルトニウムなんていらないよ!東京\n03-5225-7213(AIR内)／大地を守る会 03-3402-8841/原子力資料情報室\n03-3357-3800/日本消費者連盟 03-5155-4765/たんぽぽ舎 03-3238-9035/ふぇみん婦\n人民主クラブ 03-3402-3244/\n\n■再処理とめたい!首都圈市民のつどい:　原水爆禁止日本国民会議03-5289-8224/プ\nルトニウムなんていらないよ!東京／大地を守る会／福島老朽原発を考える会／たん\nぽぽ舎／日本山妙法寺／日本消費者連盟／ふぇみん婦人民主クラブ／グリーンピー\nス・ジャパン／原子力資料情報室\n
SUMMARY:８．２７反原発デモ情報（東京）
PRIORITY:0
CLASS:PUBLIC
END:VEVENT
END:VCALENDAR
