BEGIN:VCALENDAR
CALSCALE:GREGORIAN
X-WR-TIMEZONE;VALUE=TEXT:GMT
PRODID:PEAK Corporation - piCal -
X-WR-CALNAME;VALUE=TEXT:武藤類子さん（福島原発告訴団・団長）のお話しを聴く会@世田谷
VERSION:2.0
METHOD:PUBLISH
BEGIN:VTIMEZONE
TZID:GMT
BEGIN:STANDARD
DTSTART:19390101T000000
TZOFFSETFROM:+0000
TZOFFSETTO:+0000
TZNAME:GMT
END:STANDARD
END:VTIMEZONE
BEGIN:VEVENT
DTSTART:20120914T093000Z
DTEND:20120914T113000Z
LOCATION:三茶しゃれなあど５Ｆ オリオン
TRANSP:OPAQUE
SEQUENCE:0
UID:pical040-0caff745b1d9ae469b4cb0dae88dfc79
DTSTAMP:20120828T064812Z
CATEGORIES:
DESCRIPTION: 武藤類子さん（福島原発告訴団・団長）のお話しを聴く会@世田谷\n\n＝福島の女たちの想い　未来につなげるたたかいの今＝\n6月11日、福島原発告訴団・団長の武藤類子さん他、福島の市民たち1324人は東電社長他を告訴しました。武藤さんは原発事故で、森の暮らしを奪われた悲しみ、それに対して責任をとらず、被害を拡大させた事に、当然のこととして処罰をして欲しいという怒りから告訴に踏み切りました。未来へつなぐ大人たちの責任を果たすべく、告訴団の団長として走り回っている武藤さんのお話を伺い、その思いを受けとめたいと、講演会を企画しました。\n\n9月14日（金）18：30〜20：30　\n\n三茶しゃれなあど５Ｆ オリオン\n東京都世田谷区太子堂2-16-7\n（東急田園都市線、東急世田谷線　三軒茶屋下車）\n\n参加費：８００円\n\n◆武藤類子（むとうるいこ）さん\n\n福島原発告訴団・団長。1953年生れ。福島県三春町在住。養護教員等を経 て2003年里山喫茶「燦（きらら）」を開く。チェルノブイリ以来原発反対 運動に携わり、2011年は「ハイロアクション福島原発40年」活動を予定していた。　近著「福島からあなたへ」大月書店\n\n主催：今とこれからを考える一滴の会\n\n03-5313-1525　<a href="mailto:hitosizukunokai@gmail">hitosizukunokai@gmail</a>,com\n共催、協力、賛同　募集中です。\n\n告訴については以下のサイトをご覧ください。\n\n福島原発告訴団HP：<a href="http://kokuso-fukusimagenpatu.blogspot.jp/" rel="external">http://kokuso-fukusimagenpatu.blogspot.jp/</a>\n\n関東事務局ブログ：<a href="http://dainiji-fukusimagenpatsu-kokusodan.blogspot.jp/" rel="external">http://dainiji-fukusimagenpatsu-kokusodan.blogspot.jp/</a>
SUMMARY:武藤類子さん（福島原発告訴団・団長）のお話しを聴く会@世田谷
PRIORITY:0
CLASS:PUBLIC
END:VEVENT
END:VCALENDAR
