BEGIN:VCALENDAR
CALSCALE:GREGORIAN
X-WR-TIMEZONE;VALUE=TEXT:GMT
PRODID:PEAK Corporation - piCal -
X-WR-CALNAME;VALUE=TEXT:「首相官邸「裏」抗議行動」
VERSION:2.0
METHOD:PUBLISH
BEGIN:VTIMEZONE
TZID:GMT
BEGIN:STANDARD
DTSTART:19390101T000000
TZOFFSETFROM:+0000
TZOFFSETTO:+0000
TZNAME:GMT
END:STANDARD
END:VTIMEZONE
BEGIN:VEVENT
DTSTART:20120928T080000Z
DTEND:20120928T091500Z
LOCATION:
TRANSP:OPAQUE
SEQUENCE:0
UID:pical040-4078e46a15759497a4cfeb0e788ae416
DTSTAMP:20120927T133253Z
CATEGORIES:
DESCRIPTION:\n「首相官邸「裏」抗議行動」\<a href="nhttp://seiko-jiro.net/modules/newbb/viewtopic.php?viewmode=flat&amp;topic_id=1885&amp;forum=1" rel="external">nhttp://seiko-jiro.net/modules/newbb/viewtopic.php?viewmode=flat&amp;topic_id=1885&amp;forum=1</a>\<a href="nhttp://seiko-jiro.net/modules/newbb/viewtopic.php?viewmode=flat&amp;topic_id=1885&amp;forum=1" rel="external">nhttp://seiko-jiro.net/modules/newbb/viewtopic.php?viewmode=flat&amp;topic_id=1885&amp;forum=1</a>
SUMMARY:「首相官邸「裏」抗議行動」
PRIORITY:0
CLASS:PUBLIC
END:VEVENT
END:VCALENDAR
