BEGIN:VCALENDAR
CALSCALE:GREGORIAN
X-WR-TIMEZONE;VALUE=TEXT:GMT
PRODID:PEAK Corporation - piCal -
X-WR-CALNAME;VALUE=TEXT:「PEACE アジア　平和の響き　音楽の環＆人間の和　琵琶と演奏と講演 」
VERSION:2.0
METHOD:PUBLISH
BEGIN:VTIMEZONE
TZID:GMT
BEGIN:STANDARD
DTSTART:19390101T000000
TZOFFSETFROM:+0000
TZOFFSETTO:+0000
TZNAME:GMT
END:STANDARD
END:VTIMEZONE
BEGIN:VEVENT
DTSTART:20121029T043000Z
DTEND:20121029T060000Z
LOCATION:フィリアホール　045-985-8555
TRANSP:OPAQUE
SEQUENCE:0
UID:pical040-43d295484785439e572ec0103c2eadb6
DTSTAMP:20121021T151243Z
CATEGORIES:
DESCRIPTION:「PEACE アジア　平和の響き　音楽の環＆人間の和　琵琶と演奏と講演 」\n\n演奏：曹&#23159;　中国、台湾、沖縄、日本をつなぐ演奏　中国琵琶奏者、上海出身\n\n講演：小森陽一　憲法9条と東アジアの平和を語る。　東大大学院教授、9条の会事務局長\n\n日時：2012年10月29日(月)　13：30分開演(12時30分開場)\n場所：フィリアホール　045-985-8555\<a href="nhttp://9199.jp/phone_page/06934780/" rel="external">nhttp://9199.jp/phone_page/06934780/</a>\n入場料：800円(高校生以下無料)当日券1,000円\n\n主催：青葉台地域9条の会\n\<a href="nhttp://midori-tomo.at.webry.info/201209/article_10.html" rel="external">nhttp://midori-tomo.at.webry.info/201209/article_10.html</a>
SUMMARY:「PEACE アジア　平和の響き　音楽の環＆人間の和　琵琶と演奏と講演 」
PRIORITY:0
CLASS:PUBLIC
END:VEVENT
END:VCALENDAR
