BEGIN:VCALENDAR
CALSCALE:GREGORIAN
X-WR-TIMEZONE;VALUE=TEXT:GMT
PRODID:PEAK Corporation - piCal -
X-WR-CALNAME;VALUE=TEXT:KY生さんの原爆忌連続Standing、８／５〜９、２０１４
VERSION:2.0
METHOD:PUBLISH
BEGIN:VTIMEZONE
TZID:GMT
BEGIN:STANDARD
DTSTART:19390101T000000
TZOFFSETFROM:+0000
TZOFFSETTO:+0000
TZNAME:GMT
END:STANDARD
END:VTIMEZONE
BEGIN:VEVENT
DTSTART:20140805T070000Z
DTEND:20140809T080000Z
LOCATION:新宿駅西口小田急デパート前歩道橋下　
TRANSP:OPAQUE
SEQUENCE:0
UID:pical040-f7cc729c0db1bda7d288e7023bd9ce80
DTSTAMP:20140731T172305Z
CATEGORIES:
DESCRIPTION:原爆忌連続Standing、８／５〜９、２０１４\n\n＊＊＊＊＊\n原爆忌連続Standing\n\n期日：８／５〜９の５日間　\nいずれも　１６：００〜１７：００\n\n場所：　新宿駅西口小田急デパート前歩道橋下　\n方法：　メッセージパネルをもって立っているだけ。\n（制限はないので、チラシを配られても、発声されても勿論自由）\n＊＊＊＊＊\n\n今年の私のテーマは反核・反原発・反集団的自衛権です。\n連帯大歓迎です。\n\n通りかかったら声をかけていただけると幸せです。\n一緒に立っていただけたらもっと嬉しいです。\n\nひとりでもやる\nひとりでもやめる\n\nなのです。\n\n*　開始時間はフレキシブルで、私の都合で勝手に変えますし、やむをえない場合は中止するかもしれないので、私がいなくても困惑しないでお立ちください。\n\n良く覚えていないのですが、２００４年からやっていると記憶していますので、今年で１１回目です。\n\n＋＋＋＋＋＋\n\n２０１3年の様子\<a href="nhttp://red.ap.teacup.com/kysei4/1467.html" rel="external">nhttp://red.ap.teacup.com/kysei4/1467.html</a>\<a href="nhttp://red.ap.teacup.com/kysei4/1468.html" rel="external">nhttp://red.ap.teacup.com/kysei4/1468.html</a>\<a href="nhttp://red.ap.teacup.com/kysei4/1470.html" rel="external">nhttp://red.ap.teacup.com/kysei4/1470.html</a>\<a href="nhttp://red.ap.teacup.com/kysei4/1472.html" rel="external">nhttp://red.ap.teacup.com/kysei4/1472.html</a>\<a href="nhttp://red.ap.teacup.com/kysei4/1475.html" rel="external">nhttp://red.ap.teacup.com/kysei4/1475.html</a>
SUMMARY:KY生さんの原爆忌連続Standing、８／５〜９、２０１４
PRIORITY:0
CLASS:PUBLIC
END:VEVENT
END:VCALENDAR
