BEGIN:VCALENDAR
CALSCALE:GREGORIAN
X-WR-TIMEZONE;VALUE=TEXT:GMT
PRODID:PEAK Corporation - piCal -
X-WR-CALNAME;VALUE=TEXT:「怒りのブルドーザーデモ」
VERSION:2.0
METHOD:PUBLISH
BEGIN:VTIMEZONE
TZID:GMT
BEGIN:STANDARD
DTSTART:19390101T000000
TZOFFSETFROM:+0000
TZOFFSETTO:+0000
TZNAME:GMT
END:STANDARD
END:VTIMEZONE
BEGIN:VEVENT
DTSTART:20140802T070000Z
DTEND:20140802T090000Z
LOCATION:代々木公園ケヤキ並木　16:00出発(予定)　
TRANSP:OPAQUE
SEQUENCE:0
UID:pical040-e86046acd6bcd745c3789d1dd4d84bdf
DTSTAMP:20140801T181321Z
CATEGORIES:
DESCRIPTION:\nイルコモンズ作 「怒怨のブルドラム」(2014年)が見られます。\<a href="nhttp://illcomm.exblog.jp/20968194/" rel="external">nhttp://illcomm.exblog.jp/20968194/</a>\n\n８月２日（土）、東京デモクラシーネットワークは、東京・渋谷〜原宿で、安倍政権打倒を掲げた「怒りのブルドーザーデモ」を主催する。
SUMMARY:「怒りのブルドーザーデモ」
PRIORITY:0
CLASS:PUBLIC
END:VEVENT
END:VCALENDAR
