BEGIN:VCALENDAR
CALSCALE:GREGORIAN
X-WR-TIMEZONE;VALUE=TEXT:GMT
PRODID:PEAK Corporation - piCal -
X-WR-CALNAME;VALUE=TEXT:Amal for Peace展　
VERSION:2.0
METHOD:PUBLISH
BEGIN:VTIMEZONE
TZID:GMT
BEGIN:STANDARD
DTSTART:19390101T000000
TZOFFSETFROM:+0000
TZOFFSETTO:+0000
TZNAME:GMT
END:STANDARD
END:VTIMEZONE
BEGIN:VEVENT
DTSTART:20160201T020000Z
DTEND:20160206T100000Z
LOCATION:ギャラリーモーツアルト 　　東京都中央区京橋1-6-14　ＹＫビル1Ｆ　
TRANSP:OPAQUE
SEQUENCE:0
UID:pical060-368d2107a7784d484bc53d711f4ce731
DTSTAMP:20160119T161002Z
CATEGORIES:
DESCRIPTION:　Amal for Peace展　\n　〜こんな時代だから、中東のアート/文化から平和の意味を考える〜\n\n期間：2016.２/１（mon）-６（sat）\n　　　11:00-19:00(最終日17:00)＊初日は13:00より\n　　ラスト・カフィーヤ＆イラク現代アート　展示販売\n　　＊JIM-NETのチョコ募金もできます！\n場所：ギャラリーモーツアルト\n　　東京都中央区京橋1-6-14　ＹＫビル1Ｆ　\n　　<a href="http://g-mozart.jp/" rel="external">http://g-mozart.jp/</a>\n\n◎イベント：（各17:00-19:00 入場無料）\n　2/１(mon）Opening Party（食事・ドリンク持込歓迎）\n　2/３(wed)　トークライブ　北村[Amal Falestini]・相沢恭行[PEACE ON]\n　　　　　　　　　　　　　ゲスト：佐藤真紀 [JIM-NET事務局長]\n　2/5 (fri) &#10077;Yatch(相沢恭行)&#10078; ギター弾き語りLIVE\n\n主催：Amal Falestini（パレスチナ・アマル）,PEACE ON\n共催：JIM-NET(日本イラク医療支援ネットワーク)\<a href="nhttps://www.facebook.com/events/167362120291536/175697996124615/" rel="external">nhttps://www.facebook.com/events/167362120291536/175697996124615/</a>
SUMMARY:Amal for Peace展　
PRIORITY:0
CLASS:PUBLIC
END:VEVENT
END:VCALENDAR
